BEGIN:VCALENDAR
VERSION:2.0
PRODID:-//University of Virginia//graphics.f2018//EN
CALSCALE:GREGORIAN
NAME:graphics.f2018
BEGIN:VEVENT
SUMMARY:CS4810
DTSTART;TZID=America/New_York;VALUE=DATE-TIME:20180828T140000
DTEND;TZID=America/New_York;VALUE=DATE-TIME:20180828T151500
DTSTAMP;VALUE=DATE-TIME:20181206T153610Z
UID:CS48102018-08-28T14
DESCRIPTION:intro
LOCATION:Thorton E316
END:VEVENT
BEGIN:VEVENT
SUMMARY:CS4810
DTSTART;TZID=America/New_York;VALUE=DATE-TIME:20180830T140000
DTEND;TZID=America/New_York;VALUE=DATE-TIME:20180830T151500
DTSTAMP;VALUE=DATE-TIME:20181206T153610Z
UID:CS48102018-08-30T14
DESCRIPTION:raster graphics
LOCATION:Thorton E316
END:VEVENT
BEGIN:VEVENT
SUMMARY:CS4810
DTSTART;TZID=America/New_York;VALUE=DATE-TIME:20180904T140000
DTEND;TZID=America/New_York;VALUE=DATE-TIME:20180904T151500
DTSTAMP;VALUE=DATE-TIME:20181206T153610Z
UID:CS48102018-09-04T14
DESCRIPTION:color
LOCATION:Thorton E316
END:VEVENT
BEGIN:VEVENT
SUMMARY:CS4810
DTSTART;TZID=America/New_York;VALUE=DATE-TIME:20180906T140000
DTEND;TZID=America/New_York;VALUE=DATE-TIME:20180906T151500
DTSTAMP;VALUE=DATE-TIME:20181206T153610Z
UID:CS48102018-09-06T14
DESCRIPTION:image files
LOCATION:Thorton E316
END:VEVENT
BEGIN:VEVENT
SUMMARY:CS4810
DTSTART;TZID=America/New_York;VALUE=DATE-TIME:20180911T140000
DTEND;TZID=America/New_York;VALUE=DATE-TIME:20180911T151500
DTSTAMP;VALUE=DATE-TIME:20181206T153610Z
UID:CS48102018-09-11T14
DESCRIPTION:scan conversion
LOCATION:Thorton E316
END:VEVENT
BEGIN:VEVENT
SUMMARY:CS4810
DTSTART;TZID=America/New_York;VALUE=DATE-TIME:20180913T140000
DTEND;TZID=America/New_York;VALUE=DATE-TIME:20180913T151500
DTSTAMP;VALUE=DATE-TIME:20181206T153610Z
UID:CS48102018-09-13T14
DESCRIPTION:subdivision
LOCATION:Thorton E316
END:VEVENT
BEGIN:VEVENT
SUMMARY:CS4810
DTSTART;TZID=America/New_York;VALUE=DATE-TIME:20180918T140000
DTEND;TZID=America/New_York;VALUE=DATE-TIME:20180918T151500
DTSTAMP;VALUE=DATE-TIME:20181206T153610Z
UID:CS48102018-09-18T14
DESCRIPTION:curves and alpha
LOCATION:Thorton E316
END:VEVENT
BEGIN:VEVENT
SUMMARY:CS4810
DTSTART;TZID=America/New_York;VALUE=DATE-TIME:20180920T140000
DTEND;TZID=America/New_York;VALUE=DATE-TIME:20180920T151500
DTSTAMP;VALUE=DATE-TIME:20181206T153610Z
UID:CS48102018-09-20T14
DESCRIPTION:math
LOCATION:Thorton E316
END:VEVENT
BEGIN:VEVENT
SUMMARY:CS4810
DTSTART;TZID=America/New_York;VALUE=DATE-TIME:20180925T140000
DTEND;TZID=America/New_York;VALUE=DATE-TIME:20180925T151500
DTSTAMP;VALUE=DATE-TIME:20181206T153610Z
UID:CS48102018-09-25T14
DESCRIPTION:homogeneous coordinates
LOCATION:Thorton E316
END:VEVENT
BEGIN:VEVENT
SUMMARY:CS4810
DTSTART;TZID=America/New_York;VALUE=DATE-TIME:20180927T140000
DTEND;TZID=America/New_York;VALUE=DATE-TIME:20180927T151500
DTSTAMP;VALUE=DATE-TIME:20181206T153610Z
UID:CS48102018-09-27T14
DESCRIPTION:3d pipeline
LOCATION:Thorton E316
END:VEVENT
BEGIN:VEVENT
SUMMARY:CS4810
DTSTART;TZID=America/New_York;VALUE=DATE-TIME:20181002T140000
DTEND;TZID=America/New_York;VALUE=DATE-TIME:20181002T151500
DTSTAMP;VALUE=DATE-TIME:20181206T153610Z
UID:CS48102018-10-02T14
DESCRIPTION:fragment shaders
LOCATION:Thorton E316
END:VEVENT
BEGIN:VEVENT
SUMMARY:CS4810
DTSTART;TZID=America/New_York;VALUE=DATE-TIME:20181004T140000
DTEND;TZID=America/New_York;VALUE=DATE-TIME:20181004T151500
DTSTAMP;VALUE=DATE-TIME:20181206T153610Z
UID:CS48102018-10-04T14
DESCRIPTION:3d pipeline and fragment shaders
LOCATION:Thorton E316
END:VEVENT
BEGIN:VEVENT
SUMMARY:CS4810
DTSTART;TZID=America/New_York;VALUE=DATE-TIME:20181011T140000
DTEND;TZID=America/New_York;VALUE=DATE-TIME:20181011T151500
DTSTAMP;VALUE=DATE-TIME:20181206T153610Z
UID:CS48102018-10-11T14
DESCRIPTION:raytracing
LOCATION:Thorton E316
END:VEVENT
BEGIN:VEVENT
SUMMARY:CS4810
DTSTART;TZID=America/New_York;VALUE=DATE-TIME:20181016T140000
DTEND;TZID=America/New_York;VALUE=DATE-TIME:20181016T151500
DTSTAMP;VALUE=DATE-TIME:20181206T153610Z
UID:CS48102018-10-16T14
DESCRIPTION:light
LOCATION:Thorton E316
END:VEVENT
BEGIN:VEVENT
SUMMARY:CS4810
DTSTART;TZID=America/New_York;VALUE=DATE-TIME:20181018T140000
DTEND;TZID=America/New_York;VALUE=DATE-TIME:20181018T151500
DTSTAMP;VALUE=DATE-TIME:20181206T153610Z
UID:CS48102018-10-18T14
DESCRIPTION:raytracing
LOCATION:Thorton E316
END:VEVENT
BEGIN:VEVENT
SUMMARY:CS4810
DTSTART;TZID=America/New_York;VALUE=DATE-TIME:20181023T140000
DTEND;TZID=America/New_York;VALUE=DATE-TIME:20181023T151500
DTSTAMP;VALUE=DATE-TIME:20181206T153610Z
UID:CS48102018-10-23T14
DESCRIPTION:webgl and glsl
LOCATION:Thorton E316
END:VEVENT
BEGIN:VEVENT
SUMMARY:CS4810
DTSTART;TZID=America/New_York;VALUE=DATE-TIME:20181025T140000
DTEND;TZID=America/New_York;VALUE=DATE-TIME:20181025T151500
DTSTAMP;VALUE=DATE-TIME:20181206T153610Z
UID:CS48102018-10-25T14
DESCRIPTION:webgl
LOCATION:Thorton E316
END:VEVENT
BEGIN:VEVENT
SUMMARY:CS4810
DTSTART;TZID=America/New_York;VALUE=DATE-TIME:20181030T140000
DTEND;TZID=America/New_York;VALUE=DATE-TIME:20181030T151500
DTSTAMP;VALUE=DATE-TIME:20181206T153610Z
UID:CS48102018-10-30T14
DESCRIPTION:animation
LOCATION:Thorton E316
END:VEVENT
BEGIN:VEVENT
SUMMARY:CS4810
DTSTART;TZID=America/New_York;VALUE=DATE-TIME:20181101T140000
DTEND;TZID=America/New_York;VALUE=DATE-TIME:20181101T151500
DTSTAMP;VALUE=DATE-TIME:20181206T153610Z
UID:CS48102018-11-01T14
DESCRIPTION:IK
LOCATION:Thorton E316
END:VEVENT
BEGIN:VEVENT
SUMMARY:CS4810
DTSTART;TZID=America/New_York;VALUE=DATE-TIME:20181106T140000
DTEND;TZID=America/New_York;VALUE=DATE-TIME:20181106T151500
DTSTAMP;VALUE=DATE-TIME:20181206T153610Z
UID:CS48102018-11-06T14
DESCRIPTION:volume representation
LOCATION:Thorton E316
END:VEVENT
BEGIN:VEVENT
SUMMARY:CS4810
DTSTART;TZID=America/New_York;VALUE=DATE-TIME:20181108T140000
DTEND;TZID=America/New_York;VALUE=DATE-TIME:20181108T151500
DTSTAMP;VALUE=DATE-TIME:20181206T153610Z
UID:CS48102018-11-08T14
DESCRIPTION:fluids
LOCATION:Thorton E316
END:VEVENT
BEGIN:VEVENT
SUMMARY:CS4810
DTSTART;TZID=America/New_York;VALUE=DATE-TIME:20181113T140000
DTEND;TZID=America/New_York;VALUE=DATE-TIME:20181113T151500
DTSTAMP;VALUE=DATE-TIME:20181206T153610Z
UID:CS48102018-11-13T14
DESCRIPTION:fluids
LOCATION:Thorton E316
END:VEVENT
BEGIN:VEVENT
SUMMARY:CS4810
DTSTART;TZID=America/New_York;VALUE=DATE-TIME:20181115T140000
DTEND;TZID=America/New_York;VALUE=DATE-TIME:20181115T151500
DTSTAMP;VALUE=DATE-TIME:20181206T153610Z
UID:CS48102018-11-15T14
DESCRIPTION:non-fluid physics
LOCATION:Thorton E316
END:VEVENT
BEGIN:VEVENT
SUMMARY:CS4810
DTSTART;TZID=America/New_York;VALUE=DATE-TIME:20181120T140000
DTEND;TZID=America/New_York;VALUE=DATE-TIME:20181120T151500
DTSTAMP;VALUE=DATE-TIME:20181206T153610Z
UID:CS48102018-11-20T14
DESCRIPTION:destruction
LOCATION:Thorton E316
END:VEVENT
BEGIN:VEVENT
SUMMARY:CS4810
DTSTART;TZID=America/New_York;VALUE=DATE-TIME:20181127T140000
DTEND;TZID=America/New_York;VALUE=DATE-TIME:20181127T151500
DTSTAMP;VALUE=DATE-TIME:20181206T153610Z
UID:CS48102018-11-27T14
DESCRIPTION:real-time eye-candy
LOCATION:Thorton E316
END:VEVENT
BEGIN:VEVENT
SUMMARY:CS4810
DTSTART;TZID=America/New_York;VALUE=DATE-TIME:20181129T140000
DTEND;TZID=America/New_York;VALUE=DATE-TIME:20181129T151500
DTSTAMP;VALUE=DATE-TIME:20181206T153610Z
UID:CS48102018-11-29T14
DESCRIPTION:CG filmography
LOCATION:Thorton E316
END:VEVENT
BEGIN:VEVENT
SUMMARY:CS4810
DTSTART;TZID=America/New_York;VALUE=DATE-TIME:20181204T140000
DTEND;TZID=America/New_York;VALUE=DATE-TIME:20181204T151500
DTSTAMP;VALUE=DATE-TIME:20181206T153610Z
UID:CS48102018-12-04T14
DESCRIPTION:trees and terrain
LOCATION:Thorton E316
END:VEVENT
BEGIN:VEVENT
SUMMARY:CS4810
DTSTART;TZID=America/New_York;VALUE=DATE-TIME:20181206T140000
DTEND;TZID=America/New_York;VALUE=DATE-TIME:20181206T151500
DTSTAMP;VALUE=DATE-TIME:20181206T153610Z
UID:CS48102018-12-06T14
DESCRIPTION:skin and leaves
LOCATION:Thorton E316
END:VEVENT
BEGIN:VEVENT
SUMMARY:Final Exam
DTSTART;TZID=America/New_York;VALUE=DATE-TIME:20181217T090000
DTEND;TZID=America/New_York;VALUE=DATE-TIME:20181217T120000
DTSTAMP;VALUE=DATE-TIME:20181206T153610Z
UID:Final Exam2018-12-17T09
LOCATION:Thorton E316
END:VEVENT
BEGIN:VEVENT
SUMMARY:raytracer due
DTSTART;TZID=America/New_York;VALUE=DATE-TIME:20181102T165500
DTEND;TZID=America/New_York;VALUE=DATE-TIME:20181102T170000
DTSTAMP;VALUE=DATE-TIME:20181206T153610Z
UID:raytracer due2018-11-02T16:55
END:VEVENT
BEGIN:VEVENT
SUMMARY:warmup due
DTSTART;TZID=America/New_York;VALUE=DATE-TIME:20180907T165500
DTEND;TZID=America/New_York;VALUE=DATE-TIME:20180907T170000
DTSTAMP;VALUE=DATE-TIME:20181206T153610Z
UID:warmup due2018-09-07T16:55
END:VEVENT
BEGIN:VEVENT
SUMMARY:3D rasterizer due
DTSTART;TZID=America/New_York;VALUE=DATE-TIME:20181012T165500
DTEND;TZID=America/New_York;VALUE=DATE-TIME:20181012T170000
DTSTAMP;VALUE=DATE-TIME:20181206T153610Z
UID:3D rasterizer due2018-10-12T16:55
END:VEVENT
BEGIN:VEVENT
SUMMARY:2D rasterizer due
DTSTART;TZID=America/New_York;VALUE=DATE-TIME:20180928T165500
DTEND;TZID=America/New_York;VALUE=DATE-TIME:20180928T170000
DTSTAMP;VALUE=DATE-TIME:20181206T153610Z
UID:2D rasterizer due2018-09-28T16:55
END:VEVENT
BEGIN:VEVENT
SUMMARY:webgl due
DTSTART;TZID=America/New_York;VALUE=DATE-TIME:20181116T165500
DTEND;TZID=America/New_York;VALUE=DATE-TIME:20181116T170000
DTSTAMP;VALUE=DATE-TIME:20181206T153610Z
UID:webgl due2018-11-16T16:55
END:VEVENT
BEGIN:VEVENT
SUMMARY:project due
DTSTART;TZID=America/New_York;VALUE=DATE-TIME:20181207T235459
DTEND;TZID=America/New_York;VALUE=DATE-TIME:20181207T235959
DTSTAMP;VALUE=DATE-TIME:20181206T153610Z
UID:project due2018-12-07T23:54:59
END:VEVENT
BEGIN:VEVENT
SUMMARY:Quiz
DTSTART;VALUE=DATE-TIME:20180904T120000
DTEND;VALUE=DATE-TIME:20180904T130000
DTSTAMP;VALUE=DATE-TIME:20181206T103610Z
UID:Quiz2018-09-04T12
DESCRIPTION:https://archimedes.cs.virginia.edu/cs4810/quizzes/
END:VEVENT
BEGIN:VEVENT
SUMMARY:Quiz
DTSTART;VALUE=DATE-TIME:20180911T120000
DTEND;VALUE=DATE-TIME:20180911T130000
DTSTAMP;VALUE=DATE-TIME:20181206T103610Z
UID:Quiz2018-09-11T12
DESCRIPTION:https://archimedes.cs.virginia.edu/cs4810/quizzes/
END:VEVENT
BEGIN:VEVENT
SUMMARY:Quiz
DTSTART;VALUE=DATE-TIME:20180918T120000
DTEND;VALUE=DATE-TIME:20180918T130000
DTSTAMP;VALUE=DATE-TIME:20181206T103610Z
UID:Quiz2018-09-18T12
DESCRIPTION:https://archimedes.cs.virginia.edu/cs4810/quizzes/
END:VEVENT
BEGIN:VEVENT
SUMMARY:Quiz
DTSTART;VALUE=DATE-TIME:20180925T120000
DTEND;VALUE=DATE-TIME:20180925T130000
DTSTAMP;VALUE=DATE-TIME:20181206T103610Z
UID:Quiz2018-09-25T12
DESCRIPTION:https://archimedes.cs.virginia.edu/cs4810/quizzes/
END:VEVENT
BEGIN:VEVENT
SUMMARY:Quiz
DTSTART;VALUE=DATE-TIME:20181002T120000
DTEND;VALUE=DATE-TIME:20181002T130000
DTSTAMP;VALUE=DATE-TIME:20181206T103610Z
UID:Quiz2018-10-02T12
DESCRIPTION:https://archimedes.cs.virginia.edu/cs4810/quizzes/
END:VEVENT
BEGIN:VEVENT
SUMMARY:Quiz
DTSTART;VALUE=DATE-TIME:20181011T120000
DTEND;VALUE=DATE-TIME:20181011T130000
DTSTAMP;VALUE=DATE-TIME:20181206T103610Z
UID:Quiz2018-10-11T12
DESCRIPTION:https://archimedes.cs.virginia.edu/cs4810/quizzes/
END:VEVENT
BEGIN:VEVENT
SUMMARY:Quiz
DTSTART;VALUE=DATE-TIME:20181016T120000
DTEND;VALUE=DATE-TIME:20181016T130000
DTSTAMP;VALUE=DATE-TIME:20181206T103610Z
UID:Quiz2018-10-16T12
DESCRIPTION:https://archimedes.cs.virginia.edu/cs4810/quizzes/
END:VEVENT
BEGIN:VEVENT
SUMMARY:Quiz
DTSTART;VALUE=DATE-TIME:20181023T120000
DTEND;VALUE=DATE-TIME:20181023T130000
DTSTAMP;VALUE=DATE-TIME:20181206T103610Z
UID:Quiz2018-10-23T12
DESCRIPTION:https://archimedes.cs.virginia.edu/cs4810/quizzes/
END:VEVENT
BEGIN:VEVENT
SUMMARY:Quiz
DTSTART;VALUE=DATE-TIME:20181030T120000
DTEND;VALUE=DATE-TIME:20181030T130000
DTSTAMP;VALUE=DATE-TIME:20181206T103610Z
UID:Quiz2018-10-30T12
DESCRIPTION:https://archimedes.cs.virginia.edu/cs4810/quizzes/
END:VEVENT
BEGIN:VEVENT
SUMMARY:Quiz
DTSTART;VALUE=DATE-TIME:20181106T120000
DTEND;VALUE=DATE-TIME:20181106T130000
DTSTAMP;VALUE=DATE-TIME:20181206T103610Z
UID:Quiz2018-11-06T12
DESCRIPTION:https://archimedes.cs.virginia.edu/cs4810/quizzes/
END:VEVENT
BEGIN:VEVENT
SUMMARY:Quiz
DTSTART;VALUE=DATE-TIME:20181113T120000
DTEND;VALUE=DATE-TIME:20181113T130000
DTSTAMP;VALUE=DATE-TIME:20181206T103610Z
UID:Quiz2018-11-13T12
DESCRIPTION:https://archimedes.cs.virginia.edu/cs4810/quizzes/
END:VEVENT
BEGIN:VEVENT
SUMMARY:Quiz
DTSTART;VALUE=DATE-TIME:20181120T120000
DTEND;VALUE=DATE-TIME:20181120T130000
DTSTAMP;VALUE=DATE-TIME:20181206T103610Z
UID:Quiz2018-11-20T12
DESCRIPTION:https://archimedes.cs.virginia.edu/cs4810/quizzes/
END:VEVENT
BEGIN:VEVENT
SUMMARY:Quiz
DTSTART;VALUE=DATE-TIME:20181127T120000
DTEND;VALUE=DATE-TIME:20181127T130000
DTSTAMP;VALUE=DATE-TIME:20181206T103610Z
UID:Quiz2018-11-27T12
DESCRIPTION:https://archimedes.cs.virginia.edu/cs4810/quizzes/
END:VEVENT
BEGIN:VEVENT
SUMMARY:Quiz
DTSTART;VALUE=DATE-TIME:20181204T120000
DTEND;VALUE=DATE-TIME:20181204T130000
DTSTAMP;VALUE=DATE-TIME:20181206T103610Z
UID:Quiz2018-12-04T12
DESCRIPTION:https://archimedes.cs.virginia.edu/cs4810/quizzes/
END:VEVENT
END:VCALENDAR
