BEGIN:VCALENDAR
VERSION:2.0
PRODID:-//University of Virginia//coa1.f2018//EN
CALSCALE:GREGORIAN
NAME:coa1.f2018
BEGIN:VEVENT
SUMMARY:CS2501-300
DTSTART;TZID=America/New_York;VALUE=DATE-TIME:20180829T140000
DTEND;TZID=America/New_York;VALUE=DATE-TIME:20180829T145000
DTSTAMP;VALUE=DATE-TIME:20181212T211825Z
UID:CS2501-3002018-08-29T14
DESCRIPTION:welcome
LOCATION:Olsson 009
END:VEVENT
BEGIN:VEVENT
SUMMARY:CS2501-300
DTSTART;TZID=America/New_York;VALUE=DATE-TIME:20180831T140000
DTEND;TZID=America/New_York;VALUE=DATE-TIME:20180831T145000
DTSTAMP;VALUE=DATE-TIME:20181212T211825Z
UID:CS2501-3002018-08-31T14
DESCRIPTION:Boolean algebra
LOCATION:Olsson 009
END:VEVENT
BEGIN:VEVENT
SUMMARY:CS2501-300
DTSTART;TZID=America/New_York;VALUE=DATE-TIME:20180903T140000
DTEND;TZID=America/New_York;VALUE=DATE-TIME:20180903T145000
DTSTAMP;VALUE=DATE-TIME:20181212T211825Z
UID:CS2501-3002018-09-03T14
DESCRIPTION:binary arithmetic
LOCATION:Olsson 009
END:VEVENT
BEGIN:VEVENT
SUMMARY:CS2501-300
DTSTART;TZID=America/New_York;VALUE=DATE-TIME:20180905T140000
DTEND;TZID=America/New_York;VALUE=DATE-TIME:20180905T145000
DTSTAMP;VALUE=DATE-TIME:20181212T211825Z
UID:CS2501-3002018-09-05T14
DESCRIPTION:binary arithmetic
LOCATION:Olsson 009
END:VEVENT
BEGIN:VEVENT
SUMMARY:CS2501-300
DTSTART;TZID=America/New_York;VALUE=DATE-TIME:20180907T140000
DTEND;TZID=America/New_York;VALUE=DATE-TIME:20180907T145000
DTSTAMP;VALUE=DATE-TIME:20181212T211825Z
UID:CS2501-3002018-09-07T14
DESCRIPTION:gates\, wires\, bitwise
LOCATION:Olsson 009
END:VEVENT
BEGIN:VEVENT
SUMMARY:CS2501-300
DTSTART;TZID=America/New_York;VALUE=DATE-TIME:20180910T140000
DTEND;TZID=America/New_York;VALUE=DATE-TIME:20180910T145000
DTSTAMP;VALUE=DATE-TIME:20181212T211825Z
UID:CS2501-3002018-09-10T14
DESCRIPTION:mux\, demux\, adder
LOCATION:Olsson 009
END:VEVENT
BEGIN:VEVENT
SUMMARY:CS2501-300
DTSTART;TZID=America/New_York;VALUE=DATE-TIME:20180912T140000
DTEND;TZID=America/New_York;VALUE=DATE-TIME:20180912T145000
DTSTAMP;VALUE=DATE-TIME:20181212T211825Z
UID:CS2501-3002018-09-12T14
DESCRIPTION:clocks
LOCATION:Olsson 009
END:VEVENT
BEGIN:VEVENT
SUMMARY:CS2501-300
DTSTART;TZID=America/New_York;VALUE=DATE-TIME:20180914T140000
DTEND;TZID=America/New_York;VALUE=DATE-TIME:20180914T145000
DTSTAMP;VALUE=DATE-TIME:20181212T211825Z
UID:CS2501-3002018-09-14T14
DESCRIPTION:other hardware
LOCATION:Olsson 009
END:VEVENT
BEGIN:VEVENT
SUMMARY:CS2501-300
DTSTART;TZID=America/New_York;VALUE=DATE-TIME:20180917T140000
DTEND;TZID=America/New_York;VALUE=DATE-TIME:20180917T145000
DTSTAMP;VALUE=DATE-TIME:20181212T211825Z
UID:CS2501-3002018-09-17T14
DESCRIPTION:moves\, memory\, ALU ops
LOCATION:Olsson 009
END:VEVENT
BEGIN:VEVENT
SUMMARY:CS2501-300
DTSTART;TZID=America/New_York;VALUE=DATE-TIME:20180919T140000
DTEND;TZID=America/New_York;VALUE=DATE-TIME:20180919T145000
DTSTAMP;VALUE=DATE-TIME:20181212T211825Z
UID:CS2501-3002018-09-19T14
DESCRIPTION:fetch-decode-execute
LOCATION:Olsson 009
END:VEVENT
BEGIN:VEVENT
SUMMARY:CS2501-300
DTSTART;TZID=America/New_York;VALUE=DATE-TIME:20180921T140000
DTEND;TZID=America/New_York;VALUE=DATE-TIME:20180921T145000
DTSTAMP;VALUE=DATE-TIME:20181212T211825Z
UID:CS2501-3002018-09-21T14
DESCRIPTION:writing machine code
LOCATION:Olsson 009
END:VEVENT
BEGIN:VEVENT
SUMMARY:CS2501-300
DTSTART;TZID=America/New_York;VALUE=DATE-TIME:20180924T140000
DTEND;TZID=America/New_York;VALUE=DATE-TIME:20180924T145000
DTSTAMP;VALUE=DATE-TIME:20181212T211825Z
UID:CS2501-3002018-09-24T14
DESCRIPTION:conditional jump\; back doors
LOCATION:Olsson 009
END:VEVENT
BEGIN:VEVENT
SUMMARY:CS2501-300
DTSTART;TZID=America/New_York;VALUE=DATE-TIME:20180926T140000
DTEND;TZID=America/New_York;VALUE=DATE-TIME:20180926T145000
DTSTAMP;VALUE=DATE-TIME:20181212T211825Z
UID:CS2501-3002018-09-26T14
DESCRIPTION:addressing modes\; endianness
LOCATION:Olsson 009
END:VEVENT
BEGIN:VEVENT
SUMMARY:CS2501-300
DTSTART;TZID=America/New_York;VALUE=DATE-TIME:20180928T140000
DTEND;TZID=America/New_York;VALUE=DATE-TIME:20180928T145000
DTSTAMP;VALUE=DATE-TIME:20181212T211825Z
UID:CS2501-3002018-09-28T14
DESCRIPTION:adjacency\; pointers
LOCATION:Olsson 009
END:VEVENT
BEGIN:VEVENT
SUMMARY:CS2501-300
DTSTART;TZID=America/New_York;VALUE=DATE-TIME:20181001T140000
DTEND;TZID=America/New_York;VALUE=DATE-TIME:20181001T145000
DTSTAMP;VALUE=DATE-TIME:20181212T211825Z
UID:CS2501-3002018-10-01T14
DESCRIPTION:review
LOCATION:Olsson 009
END:VEVENT
BEGIN:VEVENT
SUMMARY:CS2501-300
DTSTART;TZID=America/New_York;VALUE=DATE-TIME:20181003T140000
DTEND;TZID=America/New_York;VALUE=DATE-TIME:20181003T145000
DTSTAMP;VALUE=DATE-TIME:20181212T211825Z
UID:CS2501-3002018-10-03T14
DESCRIPTION:ISA and assembly\; patents
LOCATION:Olsson 009
END:VEVENT
BEGIN:VEVENT
SUMMARY:CS2501-300
DTSTART;TZID=America/New_York;VALUE=DATE-TIME:20181005T140000
DTEND;TZID=America/New_York;VALUE=DATE-TIME:20181005T145000
DTSTAMP;VALUE=DATE-TIME:20181212T211825Z
UID:CS2501-3002018-10-05T14
DESCRIPTION:x86-64
LOCATION:Olsson 009
END:VEVENT
BEGIN:VEVENT
SUMMARY:CS2501-300
DTSTART;TZID=America/New_York;VALUE=DATE-TIME:20181010T140000
DTEND;TZID=America/New_York;VALUE=DATE-TIME:20181010T145000
DTSTAMP;VALUE=DATE-TIME:20181212T211825Z
UID:CS2501-3002018-10-10T14
DESCRIPTION:the stack
LOCATION:Olsson 009
END:VEVENT
BEGIN:VEVENT
SUMMARY:CS2501-300
DTSTART;TZID=America/New_York;VALUE=DATE-TIME:20181012T140000
DTEND;TZID=America/New_York;VALUE=DATE-TIME:20181012T145000
DTSTAMP;VALUE=DATE-TIME:20181212T211825Z
UID:CS2501-3002018-10-12T14
DESCRIPTION:tracing variables
LOCATION:Olsson 009
END:VEVENT
BEGIN:VEVENT
SUMMARY:CS2501-300
DTSTART;TZID=America/New_York;VALUE=DATE-TIME:20181015T140000
DTEND;TZID=America/New_York;VALUE=DATE-TIME:20181015T145000
DTSTAMP;VALUE=DATE-TIME:20181212T211825Z
UID:CS2501-3002018-10-15T14
DESCRIPTION:compilation
LOCATION:Olsson 009
END:VEVENT
BEGIN:VEVENT
SUMMARY:CS2501-300
DTSTART;TZID=America/New_York;VALUE=DATE-TIME:20181017T140000
DTEND;TZID=America/New_York;VALUE=DATE-TIME:20181017T145000
DTSTAMP;VALUE=DATE-TIME:20181212T211825Z
UID:CS2501-3002018-10-17T14
DESCRIPTION:compile-time info
LOCATION:Olsson 009
END:VEVENT
BEGIN:VEVENT
SUMMARY:CS2501-300
DTSTART;TZID=America/New_York;VALUE=DATE-TIME:20181019T140000
DTEND;TZID=America/New_York;VALUE=DATE-TIME:20181019T145000
DTSTAMP;VALUE=DATE-TIME:20181212T211825Z
UID:CS2501-3002018-10-19T14
DESCRIPTION:C introduction
LOCATION:Olsson 009
END:VEVENT
BEGIN:VEVENT
SUMMARY:CS2501-300
DTSTART;TZID=America/New_York;VALUE=DATE-TIME:20181022T140000
DTEND;TZID=America/New_York;VALUE=DATE-TIME:20181022T145000
DTSTAMP;VALUE=DATE-TIME:20181212T211825Z
UID:CS2501-3002018-10-22T14
DESCRIPTION:C introduction
LOCATION:Olsson 009
END:VEVENT
BEGIN:VEVENT
SUMMARY:CS2501-300
DTSTART;TZID=America/New_York;VALUE=DATE-TIME:20181024T140000
DTEND;TZID=America/New_York;VALUE=DATE-TIME:20181024T145000
DTSTAMP;VALUE=DATE-TIME:20181212T211825Z
UID:CS2501-3002018-10-24T14
DESCRIPTION:C introduction
LOCATION:Olsson 009
END:VEVENT
BEGIN:VEVENT
SUMMARY:CS2501-300
DTSTART;TZID=America/New_York;VALUE=DATE-TIME:20181026T140000
DTEND;TZID=America/New_York;VALUE=DATE-TIME:20181026T145000
DTSTAMP;VALUE=DATE-TIME:20181212T211825Z
UID:CS2501-3002018-10-26T14
DESCRIPTION:C introduction
LOCATION:Olsson 009
END:VEVENT
BEGIN:VEVENT
SUMMARY:CS2501-300
DTSTART;TZID=America/New_York;VALUE=DATE-TIME:20181029T140000
DTEND;TZID=America/New_York;VALUE=DATE-TIME:20181029T145000
DTSTAMP;VALUE=DATE-TIME:20181212T211825Z
UID:CS2501-3002018-10-29T14
DESCRIPTION:global\, stack\, heap
LOCATION:Olsson 009
END:VEVENT
BEGIN:VEVENT
SUMMARY:CS2501-300
DTSTART;TZID=America/New_York;VALUE=DATE-TIME:20181031T140000
DTEND;TZID=America/New_York;VALUE=DATE-TIME:20181031T145000
DTSTAMP;VALUE=DATE-TIME:20181212T211825Z
UID:CS2501-3002018-10-31T14
DESCRIPTION:malloc and free
LOCATION:Olsson 009
END:VEVENT
BEGIN:VEVENT
SUMMARY:CS2501-300
DTSTART;TZID=America/New_York;VALUE=DATE-TIME:20181102T140000
DTEND;TZID=America/New_York;VALUE=DATE-TIME:20181102T145000
DTSTAMP;VALUE=DATE-TIME:20181212T211825Z
UID:CS2501-3002018-11-02T14
DESCRIPTION:review
LOCATION:Olsson 009
END:VEVENT
BEGIN:VEVENT
SUMMARY:CS2501-300
DTSTART;TZID=America/New_York;VALUE=DATE-TIME:20181105T140000
DTEND;TZID=America/New_York;VALUE=DATE-TIME:20181105T145000
DTSTAMP;VALUE=DATE-TIME:20181212T211825Z
UID:CS2501-3002018-11-05T14
DESCRIPTION:malloc examples
LOCATION:Olsson 009
END:VEVENT
BEGIN:VEVENT
SUMMARY:CS2501-300
DTSTART;TZID=America/New_York;VALUE=DATE-TIME:20181107T140000
DTEND;TZID=America/New_York;VALUE=DATE-TIME:20181107T145000
DTSTAMP;VALUE=DATE-TIME:20181212T211825Z
UID:CS2501-3002018-11-07T14
DESCRIPTION:C std library conventions
LOCATION:Olsson 009
END:VEVENT
BEGIN:VEVENT
SUMMARY:CS2501-300
DTSTART;TZID=America/New_York;VALUE=DATE-TIME:20181109T140000
DTEND;TZID=America/New_York;VALUE=DATE-TIME:20181109T145000
DTSTAMP;VALUE=DATE-TIME:20181212T211825Z
UID:CS2501-3002018-11-09T14
DESCRIPTION:string.h
LOCATION:Olsson 009
END:VEVENT
BEGIN:VEVENT
SUMMARY:CS2501-300
DTSTART;TZID=America/New_York;VALUE=DATE-TIME:20181112T140000
DTEND;TZID=America/New_York;VALUE=DATE-TIME:20181112T145000
DTSTAMP;VALUE=DATE-TIME:20181212T211825Z
UID:CS2501-3002018-11-12T14
DESCRIPTION:stdio.h and varargs
LOCATION:Olsson 009
END:VEVENT
BEGIN:VEVENT
SUMMARY:CS2501-300
DTSTART;TZID=America/New_York;VALUE=DATE-TIME:20181114T140000
DTEND;TZID=America/New_York;VALUE=DATE-TIME:20181114T145000
DTSTAMP;VALUE=DATE-TIME:20181212T211825Z
UID:CS2501-3002018-11-14T14
DESCRIPTION:stdio.h and varargs
LOCATION:Olsson 009
END:VEVENT
BEGIN:VEVENT
SUMMARY:CS2501-300
DTSTART;TZID=America/New_York;VALUE=DATE-TIME:20181116T140000
DTEND;TZID=America/New_York;VALUE=DATE-TIME:20181116T145000
DTSTAMP;VALUE=DATE-TIME:20181212T211825Z
UID:CS2501-3002018-11-16T14
DESCRIPTION:unistd.h and so on
LOCATION:Olsson 009
END:VEVENT
BEGIN:VEVENT
SUMMARY:CS2501-300
DTSTART;TZID=America/New_York;VALUE=DATE-TIME:20181119T140000
DTEND;TZID=America/New_York;VALUE=DATE-TIME:20181119T145000
DTSTAMP;VALUE=DATE-TIME:20181212T211825Z
UID:CS2501-3002018-11-19T14
DESCRIPTION:Q&A
LOCATION:Olsson 009
END:VEVENT
BEGIN:VEVENT
SUMMARY:CS2501-300
DTSTART;TZID=America/New_York;VALUE=DATE-TIME:20181126T140000
DTEND;TZID=America/New_York;VALUE=DATE-TIME:20181126T145000
DTSTAMP;VALUE=DATE-TIME:20181212T211825Z
UID:CS2501-3002018-11-26T14
DESCRIPTION:buffer overrun\; reporting exploits
LOCATION:Olsson 009
END:VEVENT
BEGIN:VEVENT
SUMMARY:CS2501-300
DTSTART;TZID=America/New_York;VALUE=DATE-TIME:20181128T140000
DTEND;TZID=America/New_York;VALUE=DATE-TIME:20181128T145000
DTSTAMP;VALUE=DATE-TIME:20181212T211825Z
UID:CS2501-3002018-11-28T14
DESCRIPTION:function pointers
LOCATION:Olsson 009
END:VEVENT
BEGIN:VEVENT
SUMMARY:CS2501-300
DTSTART;TZID=America/New_York;VALUE=DATE-TIME:20181130T140000
DTEND;TZID=America/New_York;VALUE=DATE-TIME:20181130T145000
DTSTAMP;VALUE=DATE-TIME:20181212T211825Z
UID:CS2501-3002018-11-30T14
DESCRIPTION:defensive programming
LOCATION:Olsson 009
END:VEVENT
BEGIN:VEVENT
SUMMARY:CS2501-300
DTSTART;TZID=America/New_York;VALUE=DATE-TIME:20181203T140000
DTEND;TZID=America/New_York;VALUE=DATE-TIME:20181203T145000
DTSTAMP;VALUE=DATE-TIME:20181212T211825Z
UID:CS2501-3002018-12-03T14
DESCRIPTION:defensive programming
LOCATION:Olsson 009
END:VEVENT
BEGIN:VEVENT
SUMMARY:CS2501-300
DTSTART;TZID=America/New_York;VALUE=DATE-TIME:20181205T140000
DTEND;TZID=America/New_York;VALUE=DATE-TIME:20181205T145000
DTSTAMP;VALUE=DATE-TIME:20181212T211825Z
UID:CS2501-3002018-12-05T14
DESCRIPTION:languages safer than C
LOCATION:Olsson 009
END:VEVENT
BEGIN:VEVENT
SUMMARY:Exam 1(CS2501-301)
DTSTART;TZID=America/New_York;VALUE=DATE-TIME:20181001T183000
DTEND;TZID=America/New_York;VALUE=DATE-TIME:20181001T194500
DTSTAMP;VALUE=DATE-TIME:20181212T211825Z
UID:Exam 1(CS2501-301)2018-10-01T18:3
DESCRIPTION:Exam 1 for CS2501-301
LOCATION:MEC 213
END:VEVENT
BEGIN:VEVENT
SUMMARY:Exam 1(CS2501-302)
DTSTART;TZID=America/New_York;VALUE=DATE-TIME:20181002T183000
DTEND;TZID=America/New_York;VALUE=DATE-TIME:20181002T194500
DTSTAMP;VALUE=DATE-TIME:20181212T211825Z
UID:Exam 1(CS2501-302)2018-10-02T18:3
DESCRIPTION:Exam 1 for CS2501-302
LOCATION:MEC 213
END:VEVENT
BEGIN:VEVENT
SUMMARY:Exam 2(CS2501-301)
DTSTART;TZID=America/New_York;VALUE=DATE-TIME:20181105T183000
DTEND;TZID=America/New_York;VALUE=DATE-TIME:20181105T194500
DTSTAMP;VALUE=DATE-TIME:20181212T211825Z
UID:Exam 2(CS2501-301)2018-11-05T18:3
DESCRIPTION:Exam 2 for CS2501-301
LOCATION:MEC 213
END:VEVENT
BEGIN:VEVENT
SUMMARY:Exam 2(CS2501-302)
DTSTART;TZID=America/New_York;VALUE=DATE-TIME:20181106T183000
DTEND;TZID=America/New_York;VALUE=DATE-TIME:20181106T194500
DTSTAMP;VALUE=DATE-TIME:20181212T211825Z
UID:Exam 2(CS2501-302)2018-11-06T18:3
DESCRIPTION:Exam 2 for CS2501-302
LOCATION:MEC 213
END:VEVENT
BEGIN:VEVENT
SUMMARY:Exam 3
DTSTART;TZID=America/New_York;VALUE=DATE-TIME:20181212T140000
DTEND;TZID=America/New_York;VALUE=DATE-TIME:20181212T170000
DTSTAMP;VALUE=DATE-TIME:20181212T211825Z
UID:Exam 32018-12-12T14
LOCATION:Olsson 009
END:VEVENT
BEGIN:VEVENT
SUMMARY:CS2501-301
DTSTART;TZID=America/New_York;VALUE=DATE-TIME:20180903T183000
DTEND;TZID=America/New_York;VALUE=DATE-TIME:20180903T194500
DTSTAMP;VALUE=DATE-TIME:20181212T211825Z
UID:CS2501-3012018-09-03T18:3
DESCRIPTION:Lab01: shell
LOCATION:MEC 213
END:VEVENT
BEGIN:VEVENT
SUMMARY:CS2501-302
DTSTART;TZID=America/New_York;VALUE=DATE-TIME:20180904T183000
DTEND;TZID=America/New_York;VALUE=DATE-TIME:20180904T194500
DTSTAMP;VALUE=DATE-TIME:20181212T211825Z
UID:CS2501-3022018-09-04T18:3
DESCRIPTION:Lab01: shell
LOCATION:MEC 213
END:VEVENT
BEGIN:VEVENT
SUMMARY:CS2501-301
DTSTART;TZID=America/New_York;VALUE=DATE-TIME:20180910T183000
DTEND;TZID=America/New_York;VALUE=DATE-TIME:20180910T194500
DTSTAMP;VALUE=DATE-TIME:20181212T211825Z
UID:CS2501-3012018-09-10T18:3
DESCRIPTION:Lab02: information theory
LOCATION:MEC 213
END:VEVENT
BEGIN:VEVENT
SUMMARY:CS2501-302
DTSTART;TZID=America/New_York;VALUE=DATE-TIME:20180911T183000
DTEND;TZID=America/New_York;VALUE=DATE-TIME:20180911T194500
DTSTAMP;VALUE=DATE-TIME:20181212T211825Z
UID:CS2501-3022018-09-11T18:3
DESCRIPTION:Lab02: information theory
LOCATION:MEC 213
END:VEVENT
BEGIN:VEVENT
SUMMARY:CS2501-301
DTSTART;TZID=America/New_York;VALUE=DATE-TIME:20180917T183000
DTEND;TZID=America/New_York;VALUE=DATE-TIME:20180917T194500
DTSTAMP;VALUE=DATE-TIME:20181212T211825Z
UID:CS2501-3012018-09-17T18:3
DESCRIPTION:Lab03: hex editor
LOCATION:MEC 213
END:VEVENT
BEGIN:VEVENT
SUMMARY:CS2501-302
DTSTART;TZID=America/New_York;VALUE=DATE-TIME:20180918T183000
DTEND;TZID=America/New_York;VALUE=DATE-TIME:20180918T194500
DTSTAMP;VALUE=DATE-TIME:20181212T211825Z
UID:CS2501-3022018-09-18T18:3
DESCRIPTION:Lab03: hex editor
LOCATION:MEC 213
END:VEVENT
BEGIN:VEVENT
SUMMARY:CS2501-301
DTSTART;TZID=America/New_York;VALUE=DATE-TIME:20180924T183000
DTEND;TZID=America/New_York;VALUE=DATE-TIME:20180924T194500
DTSTAMP;VALUE=DATE-TIME:20181212T211825Z
UID:CS2501-3012018-09-24T18:3
DESCRIPTION:Lab04: simulator
LOCATION:MEC 213
END:VEVENT
BEGIN:VEVENT
SUMMARY:CS2501-302
DTSTART;TZID=America/New_York;VALUE=DATE-TIME:20180925T183000
DTEND;TZID=America/New_York;VALUE=DATE-TIME:20180925T194500
DTSTAMP;VALUE=DATE-TIME:20181212T211825Z
UID:CS2501-3022018-09-25T18:3
DESCRIPTION:Lab04: simulator
LOCATION:MEC 213
END:VEVENT
BEGIN:VEVENT
SUMMARY:CS2501-301
DTSTART;TZID=America/New_York;VALUE=DATE-TIME:20181015T183000
DTEND;TZID=America/New_York;VALUE=DATE-TIME:20181015T194500
DTSTAMP;VALUE=DATE-TIME:20181212T211825Z
UID:CS2501-3012018-10-15T18:3
DESCRIPTION:Lab05: debugger
LOCATION:MEC 213
END:VEVENT
BEGIN:VEVENT
SUMMARY:CS2501-302
DTSTART;TZID=America/New_York;VALUE=DATE-TIME:20181016T183000
DTEND;TZID=America/New_York;VALUE=DATE-TIME:20181016T194500
DTSTAMP;VALUE=DATE-TIME:20181212T211825Z
UID:CS2501-3022018-10-16T18:3
DESCRIPTION:Lab05: debugger
LOCATION:MEC 213
END:VEVENT
BEGIN:VEVENT
SUMMARY:CS2501-301
DTSTART;TZID=America/New_York;VALUE=DATE-TIME:20181022T183000
DTEND;TZID=America/New_York;VALUE=DATE-TIME:20181022T194500
DTSTAMP;VALUE=DATE-TIME:20181212T211825Z
UID:CS2501-3012018-10-22T18:3
DESCRIPTION:Lab06: bomb
LOCATION:MEC 213
END:VEVENT
BEGIN:VEVENT
SUMMARY:CS2501-302
DTSTART;TZID=America/New_York;VALUE=DATE-TIME:20181023T183000
DTEND;TZID=America/New_York;VALUE=DATE-TIME:20181023T194500
DTSTAMP;VALUE=DATE-TIME:20181212T211825Z
UID:CS2501-3022018-10-23T18:3
DESCRIPTION:Lab06: bomb
LOCATION:MEC 213
END:VEVENT
BEGIN:VEVENT
SUMMARY:CS2501-301
DTSTART;TZID=America/New_York;VALUE=DATE-TIME:20181029T183000
DTEND;TZID=America/New_York;VALUE=DATE-TIME:20181029T194500
DTSTAMP;VALUE=DATE-TIME:20181212T211825Z
UID:CS2501-3012018-10-29T18:3
DESCRIPTION:Lab07: char*
LOCATION:MEC 213
END:VEVENT
BEGIN:VEVENT
SUMMARY:CS2501-302
DTSTART;TZID=America/New_York;VALUE=DATE-TIME:20181030T183000
DTEND;TZID=America/New_York;VALUE=DATE-TIME:20181030T194500
DTSTAMP;VALUE=DATE-TIME:20181212T211825Z
UID:CS2501-3022018-10-30T18:3
DESCRIPTION:Lab07: char*
LOCATION:MEC 213
END:VEVENT
BEGIN:VEVENT
SUMMARY:CS2501-301
DTSTART;TZID=America/New_York;VALUE=DATE-TIME:20181112T183000
DTEND;TZID=America/New_York;VALUE=DATE-TIME:20181112T194500
DTSTAMP;VALUE=DATE-TIME:20181212T211825Z
UID:CS2501-3012018-11-12T18:3
DESCRIPTION:Lab08: fchat
LOCATION:MEC 213
END:VEVENT
BEGIN:VEVENT
SUMMARY:CS2501-302
DTSTART;TZID=America/New_York;VALUE=DATE-TIME:20181113T183000
DTEND;TZID=America/New_York;VALUE=DATE-TIME:20181113T194500
DTSTAMP;VALUE=DATE-TIME:20181212T211825Z
UID:CS2501-3022018-11-13T18:3
DESCRIPTION:Lab08: fchat
LOCATION:MEC 213
END:VEVENT
BEGIN:VEVENT
SUMMARY:CS2501-301
DTSTART;TZID=America/New_York;VALUE=DATE-TIME:20181119T183000
DTEND;TZID=America/New_York;VALUE=DATE-TIME:20181119T194500
DTSTAMP;VALUE=DATE-TIME:20181212T211825Z
UID:CS2501-3012018-11-19T18:3
DESCRIPTION:Lab09: sockets
LOCATION:MEC 213
END:VEVENT
BEGIN:VEVENT
SUMMARY:CS2501-302
DTSTART;TZID=America/New_York;VALUE=DATE-TIME:20181120T183000
DTEND;TZID=America/New_York;VALUE=DATE-TIME:20181120T194500
DTSTAMP;VALUE=DATE-TIME:20181212T211825Z
UID:CS2501-3022018-11-20T18:3
DESCRIPTION:Lab09: sockets
LOCATION:MEC 213
END:VEVENT
BEGIN:VEVENT
SUMMARY:CS2501-301
DTSTART;TZID=America/New_York;VALUE=DATE-TIME:20181126T183000
DTEND;TZID=America/New_York;VALUE=DATE-TIME:20181126T194500
DTSTAMP;VALUE=DATE-TIME:20181212T211825Z
UID:CS2501-3012018-11-26T18:3
DESCRIPTION:Lab10: cpp
LOCATION:MEC 213
END:VEVENT
BEGIN:VEVENT
SUMMARY:CS2501-302
DTSTART;TZID=America/New_York;VALUE=DATE-TIME:20181127T183000
DTEND;TZID=America/New_York;VALUE=DATE-TIME:20181127T194500
DTSTAMP;VALUE=DATE-TIME:20181212T211825Z
UID:CS2501-3022018-11-27T18:3
DESCRIPTION:Lab10: cpp
LOCATION:MEC 213
END:VEVENT
BEGIN:VEVENT
SUMMARY:CS2501-301
DTSTART;TZID=America/New_York;VALUE=DATE-TIME:20181203T183000
DTEND;TZID=America/New_York;VALUE=DATE-TIME:20181203T194500
DTSTAMP;VALUE=DATE-TIME:20181212T211825Z
UID:CS2501-3012018-12-03T18:3
DESCRIPTION:Lab11: cpp
LOCATION:MEC 213
END:VEVENT
BEGIN:VEVENT
SUMMARY:CS2501-302
DTSTART;TZID=America/New_York;VALUE=DATE-TIME:20181204T183000
DTEND;TZID=America/New_York;VALUE=DATE-TIME:20181204T194500
DTSTAMP;VALUE=DATE-TIME:20181212T211825Z
UID:CS2501-3022018-12-04T18:3
DESCRIPTION:Lab11: cpp
LOCATION:MEC 213
END:VEVENT
BEGIN:VEVENT
SUMMARY:PA01 due
DTSTART;TZID=America/New_York;VALUE=DATE-TIME:20180914T135500
DTEND;TZID=America/New_York;VALUE=DATE-TIME:20180914T140000
DTSTAMP;VALUE=DATE-TIME:20181212T211825Z
UID:PA01 due2018-09-14T13:55
END:VEVENT
BEGIN:VEVENT
SUMMARY:PA02 due
DTSTART;TZID=America/New_York;VALUE=DATE-TIME:20180921T135500
DTEND;TZID=America/New_York;VALUE=DATE-TIME:20180921T140000
DTSTAMP;VALUE=DATE-TIME:20181212T211825Z
UID:PA02 due2018-09-21T13:55
END:VEVENT
BEGIN:VEVENT
SUMMARY:PA03 due
DTSTART;TZID=America/New_York;VALUE=DATE-TIME:20180928T135500
DTEND;TZID=America/New_York;VALUE=DATE-TIME:20180928T140000
DTSTAMP;VALUE=DATE-TIME:20181212T211825Z
UID:PA03 due2018-09-28T13:55
END:VEVENT
BEGIN:VEVENT
SUMMARY:PA04 due
DTSTART;TZID=America/New_York;VALUE=DATE-TIME:20181019T135500
DTEND;TZID=America/New_York;VALUE=DATE-TIME:20181019T140000
DTSTAMP;VALUE=DATE-TIME:20181212T211825Z
UID:PA04 due2018-10-19T13:55
END:VEVENT
BEGIN:VEVENT
SUMMARY:PA05 due
DTSTART;TZID=America/New_York;VALUE=DATE-TIME:20181026T135500
DTEND;TZID=America/New_York;VALUE=DATE-TIME:20181026T140000
DTSTAMP;VALUE=DATE-TIME:20181212T211825Z
UID:PA05 due2018-10-26T13:55
END:VEVENT
BEGIN:VEVENT
SUMMARY:PA06 due
DTSTART;TZID=America/New_York;VALUE=DATE-TIME:20181102T135500
DTEND;TZID=America/New_York;VALUE=DATE-TIME:20181102T140000
DTSTAMP;VALUE=DATE-TIME:20181212T211825Z
UID:PA06 due2018-11-02T13:55
END:VEVENT
BEGIN:VEVENT
SUMMARY:PA07 due
DTSTART;TZID=America/New_York;VALUE=DATE-TIME:20181116T135500
DTEND;TZID=America/New_York;VALUE=DATE-TIME:20181116T140000
DTSTAMP;VALUE=DATE-TIME:20181212T211825Z
UID:PA07 due2018-11-16T13:55
END:VEVENT
BEGIN:VEVENT
SUMMARY:PA08 due
DTSTART;TZID=America/New_York;VALUE=DATE-TIME:20181130T135500
DTEND;TZID=America/New_York;VALUE=DATE-TIME:20181130T140000
DTSTAMP;VALUE=DATE-TIME:20181212T211825Z
UID:PA08 due2018-11-30T13:55
END:VEVENT
BEGIN:VEVENT
SUMMARY:PA09 due
DTSTART;TZID=America/New_York;VALUE=DATE-TIME:20181207T135500
DTEND;TZID=America/New_York;VALUE=DATE-TIME:20181207T140000
DTSTAMP;VALUE=DATE-TIME:20181212T211825Z
UID:PA09 due2018-12-07T13:55
END:VEVENT
BEGIN:VEVENT
SUMMARY:PA08_extended due
DTSTART;TZID=America/New_York;VALUE=DATE-TIME:20191130T135500
DTEND;TZID=America/New_York;VALUE=DATE-TIME:20191130T140000
DTSTAMP;VALUE=DATE-TIME:20181212T211825Z
UID:PA08_extended due2019-11-30T13:55
END:VEVENT
BEGIN:VEVENT
SUMMARY:Quiz
DTSTART;VALUE=DATE-TIME:20180910T120000
DTEND;VALUE=DATE-TIME:20180910T130000
DTSTAMP;VALUE=DATE-TIME:20181212T161825Z
UID:Quiz2018-09-10T12
DESCRIPTION:https://archimedes.cs.virginia.edu/coa1-f2018/quizzes/
END:VEVENT
BEGIN:VEVENT
SUMMARY:Quiz
DTSTART;VALUE=DATE-TIME:20180917T120000
DTEND;VALUE=DATE-TIME:20180917T130000
DTSTAMP;VALUE=DATE-TIME:20181212T161825Z
UID:Quiz2018-09-17T12
DESCRIPTION:https://archimedes.cs.virginia.edu/coa1-f2018/quizzes/
END:VEVENT
BEGIN:VEVENT
SUMMARY:Quiz
DTSTART;VALUE=DATE-TIME:20180924T120000
DTEND;VALUE=DATE-TIME:20180924T130000
DTSTAMP;VALUE=DATE-TIME:20181212T161825Z
UID:Quiz2018-09-24T12
DESCRIPTION:https://archimedes.cs.virginia.edu/coa1-f2018/quizzes/
END:VEVENT
BEGIN:VEVENT
SUMMARY:Quiz
DTSTART;VALUE=DATE-TIME:20181010T120000
DTEND;VALUE=DATE-TIME:20181010T130000
DTSTAMP;VALUE=DATE-TIME:20181212T161825Z
UID:Quiz2018-10-10T12
DESCRIPTION:https://archimedes.cs.virginia.edu/coa1-f2018/quizzes/
END:VEVENT
BEGIN:VEVENT
SUMMARY:Quiz
DTSTART;VALUE=DATE-TIME:20181015T120000
DTEND;VALUE=DATE-TIME:20181015T130000
DTSTAMP;VALUE=DATE-TIME:20181212T161825Z
UID:Quiz2018-10-15T12
DESCRIPTION:https://archimedes.cs.virginia.edu/coa1-f2018/quizzes/
END:VEVENT
BEGIN:VEVENT
SUMMARY:Quiz
DTSTART;VALUE=DATE-TIME:20181022T120000
DTEND;VALUE=DATE-TIME:20181022T130000
DTSTAMP;VALUE=DATE-TIME:20181212T161825Z
UID:Quiz2018-10-22T12
DESCRIPTION:https://archimedes.cs.virginia.edu/coa1-f2018/quizzes/
END:VEVENT
BEGIN:VEVENT
SUMMARY:Quiz
DTSTART;VALUE=DATE-TIME:20181029T120000
DTEND;VALUE=DATE-TIME:20181029T130000
DTSTAMP;VALUE=DATE-TIME:20181212T161825Z
UID:Quiz2018-10-29T12
DESCRIPTION:https://archimedes.cs.virginia.edu/coa1-f2018/quizzes/
END:VEVENT
BEGIN:VEVENT
SUMMARY:Quiz
DTSTART;VALUE=DATE-TIME:20181112T120000
DTEND;VALUE=DATE-TIME:20181112T130000
DTSTAMP;VALUE=DATE-TIME:20181212T161825Z
UID:Quiz2018-11-12T12
DESCRIPTION:https://archimedes.cs.virginia.edu/coa1-f2018/quizzes/
END:VEVENT
BEGIN:VEVENT
SUMMARY:Quiz
DTSTART;VALUE=DATE-TIME:20181119T120000
DTEND;VALUE=DATE-TIME:20181119T130000
DTSTAMP;VALUE=DATE-TIME:20181212T161825Z
UID:Quiz2018-11-19T12
DESCRIPTION:https://archimedes.cs.virginia.edu/coa1-f2018/quizzes/
END:VEVENT
BEGIN:VEVENT
SUMMARY:Quiz
DTSTART;VALUE=DATE-TIME:20181203T120000
DTEND;VALUE=DATE-TIME:20181203T130000
DTSTAMP;VALUE=DATE-TIME:20181212T161825Z
UID:Quiz2018-12-03T12
DESCRIPTION:https://archimedes.cs.virginia.edu/coa1-f2018/quizzes/
END:VEVENT
END:VCALENDAR
